BEGIN:VCALENDAR
VERSION:2.0
PRODID:-//Reflection of Christ Ministry - ECPv6.15.20//NONSGML v1.0//EN
CALSCALE:GREGORIAN
METHOD:PUBLISH
X-WR-CALNAME:Reflection of Christ Ministry
X-ORIGINAL-URL:https://reflectionministry.org
X-WR-CALDESC:Events for Reflection of Christ Ministry
REFRESH-INTERVAL;VALUE=DURATION:PT1H
X-Robots-Tag:noindex
X-PUBLISHED-TTL:PT1H
BEGIN:VTIMEZONE
TZID:America/Chicago
BEGIN:DAYLIGHT
TZOFFSETFROM:-0600
TZOFFSETTO:-0500
TZNAME:CDT
DTSTART:20250309T080000
END:DAYLIGHT
BEGIN:STANDARD
TZOFFSETFROM:-0500
TZOFFSETTO:-0600
TZNAME:CST
DTSTART:20251102T070000
END:STANDARD
BEGIN:DAYLIGHT
TZOFFSETFROM:-0600
TZOFFSETTO:-0500
TZNAME:CDT
DTSTART:20260308T080000
END:DAYLIGHT
BEGIN:STANDARD
TZOFFSETFROM:-0500
TZOFFSETTO:-0600
TZNAME:CST
DTSTART:20261101T070000
END:STANDARD
BEGIN:DAYLIGHT
TZOFFSETFROM:-0600
TZOFFSETTO:-0500
TZNAME:CDT
DTSTART:20270314T080000
END:DAYLIGHT
BEGIN:STANDARD
TZOFFSETFROM:-0500
TZOFFSETTO:-0600
TZNAME:CST
DTSTART:20271107T070000
END:STANDARD
END:VTIMEZONE
BEGIN:VEVENT
DTSTART;TZID=America/Chicago:20260117T120000
DTEND;TZID=America/Chicago:20260117T130000
DTSTAMP:20260425T175611
CREATED:20250206T030340Z
LAST-MODIFIED:20260110T224603Z
UID:3036-1768651200-1768654800@reflectionministry.org
SUMMARY:Unlock 2026 Prophecy Appointments
DESCRIPTION:Feeling Stuck? Do you need breakthrough? What does the Lord have to say to you today? \nClick HERE to save your spot for a prophetic word from the trained ROCIM prophetic team. \nCome ready to receive an impactful word of the Lord to guide you into a transformative future! \nLimited slots available. \nIt is a 15-minute session where our trained prophetic team will provide a direct word from the LORD to encourage\, strengthen\, and edify you through the leading of Holy Spirit. \nBiblical References to Read: Joel 2:28-29/ Acts 2:17-18\, 1 Corinthians 12:10\, 1 Corinthians 14:1-3\, 1 Thessalonians 5:20-21\, Revelations 19:10 \nThese references reveal that prophecy is a way of communication from God\, often serving to express His divine plans\, offer guidance\, or provide comfort and encouragement. Whether through visions\, dreams\, or direct revelation\, the gift of prophecy is often seen as a means to strengthen faith and deliver the word of the Lord.
URL:https://reflectionministry.org/event/unlock-2026-prophecy-appointments/
LOCATION:Zoom Call
CATEGORIES:Front Page,ROCM
ATTACH;FMTTYPE=image/png:https://reflectionministry.org/wp-content/uploads/2025/02/Screen-Shot-2025-08-29-at-1.09.16-PM.png
END:VEVENT
END:VCALENDAR