BEGIN:VCALENDAR
VERSION:2.0
PRODID:-//Reflection of Christ Ministry - ECPv6.15.20//NONSGML v1.0//EN
CALSCALE:GREGORIAN
METHOD:PUBLISH
X-WR-CALNAME:Reflection of Christ Ministry
X-ORIGINAL-URL:https://reflectionministry.org
X-WR-CALDESC:Events for Reflection of Christ Ministry
REFRESH-INTERVAL;VALUE=DURATION:PT1H
X-Robots-Tag:noindex
X-PUBLISHED-TTL:PT1H
BEGIN:VTIMEZONE
TZID:America/Chicago
BEGIN:DAYLIGHT
TZOFFSETFROM:-0600
TZOFFSETTO:-0500
TZNAME:CDT
DTSTART:20200308T080000
END:DAYLIGHT
BEGIN:STANDARD
TZOFFSETFROM:-0500
TZOFFSETTO:-0600
TZNAME:CST
DTSTART:20201101T070000
END:STANDARD
BEGIN:DAYLIGHT
TZOFFSETFROM:-0600
TZOFFSETTO:-0500
TZNAME:CDT
DTSTART:20210314T080000
END:DAYLIGHT
BEGIN:STANDARD
TZOFFSETFROM:-0500
TZOFFSETTO:-0600
TZNAME:CST
DTSTART:20211107T070000
END:STANDARD
BEGIN:DAYLIGHT
TZOFFSETFROM:-0600
TZOFFSETTO:-0500
TZNAME:CDT
DTSTART:20220313T080000
END:DAYLIGHT
BEGIN:STANDARD
TZOFFSETFROM:-0500
TZOFFSETTO:-0600
TZNAME:CST
DTSTART:20221106T070000
END:STANDARD
BEGIN:DAYLIGHT
TZOFFSETFROM:-0600
TZOFFSETTO:-0500
TZNAME:CDT
DTSTART:20230312T080000
END:DAYLIGHT
BEGIN:STANDARD
TZOFFSETFROM:-0500
TZOFFSETTO:-0600
TZNAME:CST
DTSTART:20231105T070000
END:STANDARD
BEGIN:DAYLIGHT
TZOFFSETFROM:-0600
TZOFFSETTO:-0500
TZNAME:CDT
DTSTART:20240310T080000
END:DAYLIGHT
BEGIN:STANDARD
TZOFFSETFROM:-0500
TZOFFSETTO:-0600
TZNAME:CST
DTSTART:20241103T070000
END:STANDARD
BEGIN:DAYLIGHT
TZOFFSETFROM:-0600
TZOFFSETTO:-0500
TZNAME:CDT
DTSTART:20250309T080000
END:DAYLIGHT
BEGIN:STANDARD
TZOFFSETFROM:-0500
TZOFFSETTO:-0600
TZNAME:CST
DTSTART:20251102T070000
END:STANDARD
BEGIN:DAYLIGHT
TZOFFSETFROM:-0600
TZOFFSETTO:-0500
TZNAME:CDT
DTSTART:20260308T080000
END:DAYLIGHT
BEGIN:STANDARD
TZOFFSETFROM:-0500
TZOFFSETTO:-0600
TZNAME:CST
DTSTART:20261101T070000
END:STANDARD
END:VTIMEZONE
BEGIN:VEVENT
DTSTART;TZID=America/Chicago:20250117T110000
DTEND;TZID=America/Chicago:20250118T150000
DTSTAMP:20260425T180027
CREATED:20250206T032009Z
LAST-MODIFIED:20250206T032009Z
UID:3039-1737111600-1737212400@reflectionministry.org
SUMMARY:Whole Conference
DESCRIPTION:Calling the prophets\, prophetic people\, and those who want to see their region shift! Join us on January 17th @ 9 a.m. for a two day event where we will break agreement with the enemy’s camp \, come into agreement with heaven in deeper ways\, and declare the Kingdom of God over the PNW!
URL:https://reflectionministry.org/event/whole-conference/
LOCATION:Olympia\, Washington\, Olympia\, WA
CATEGORIES:Front Page,ROCM
ATTACH;FMTTYPE=image/png:https://reflectionministry.org/wp-content/uploads/2025/01/Square_WholeEarth.png
END:VEVENT
BEGIN:VEVENT
DTSTART;TZID=America/Chicago:20230818T180000
DTEND;TZID=America/Chicago:20230818T220000
DTSTAMP:20260425T180027
CREATED:20250208T024457Z
LAST-MODIFIED:20250208T024457Z
UID:3276-1692381600-1692396000@reflectionministry.org
SUMMARY:Embers 818
DESCRIPTION:You’re invited to EMBERS 818 hosted at AMC Boerne Theater\, August 18th @6pm! This is a youth led worship night free to all! Let the remnant rise up and fan the flame in our students as we back them to have the freedom to worship and take Jesus back into their schools! \nOur youth represented will be GenZ and younger. God gave a prophetic picture of our youth sitting beside the fire at the end of the summer with the embers aglow. These embers represented the fire going out. God showed me our youth are the embers. I then heard the Lord say\, “it’s time to fan the flame in our youth.” He highlighted the date 8/18/2023 for the night of worship leading to the scripture Isaiah 8:18\, where is says “Our Children are signs and symbols from the Lord”. \n“Here am I\, and the children the Lord has given me. We are signs and symbols in Israel from the Lord Almighty\, who dwells on Mount Zion.” Isaiah 8:18
URL:https://reflectionministry.org/event/embers-818/
CATEGORIES:Front Page,ROCM
ATTACH;FMTTYPE=image/png:https://reflectionministry.org/wp-content/uploads/2024/02/Embers-818-Facebook-Post.png
END:VEVENT
BEGIN:VEVENT
DTSTART;TZID=America/Chicago:20221126T160000
DTEND;TZID=America/Chicago:20221126T190000
DTSTAMP:20260425T180027
CREATED:20250208T024817Z
LAST-MODIFIED:20250208T024817Z
UID:3279-1669478400-1669489200@reflectionministry.org
SUMMARY:1Church Kerrville
DESCRIPTION:There is something powerful and transformative about the body of Christ coming together as nonprofits\, home churches\, various denominations\, and individuals to exalt King Jesus as One Church. We will ask the Lord to light the Fire in this city and celebrate His goodness! Bring your family\, friends\, extra lawn chairs or blankets\, and an expectant heart as we seek the Lord as ONE CHURCH! Event is free.
URL:https://reflectionministry.org/event/1church-kerrville/
CATEGORIES:ROCM
ATTACH;FMTTYPE=image/png:https://reflectionministry.org/wp-content/uploads/2022/11/2022-1Church-Event-Flyer-Vertical-2.png
END:VEVENT
BEGIN:VEVENT
DTSTART;TZID=America/Chicago:20210718T190000
DTEND;TZID=America/Chicago:20210718T210000
DTSTAMP:20260425T180027
CREATED:20250208T025810Z
LAST-MODIFIED:20250208T025810Z
UID:3288-1626634800-1626642000@reflectionministry.org
SUMMARY:1 Church Boerne
DESCRIPTION:There is something powerful and transformative about the body of Christ coming together as nonprofits\, home churches\, various denominations\, and individuals to exalt King Jesus as One Church. We will ask the Lord to light the Fire in this city and celebrate His goodness! Bring your family\, friends\, extra lawn chairs or blankets\, and an expectant heart as we seek the Lord as ONE CHURCH! Event is free.
URL:https://reflectionministry.org/event/1-church-boerne/
LOCATION:Boerne\, Texas\, 100 N Main St\, Boerne\, TX\, 78006\, United States
CATEGORIES:ROCM
ATTACH;FMTTYPE=image/png:https://reflectionministry.org/wp-content/uploads/2025/02/Screen-Shot-2021-07-02-at-9.13.42-AM.png
END:VEVENT
END:VCALENDAR