BEGIN:VCALENDAR
VERSION:2.0
PRODID:-//Reflection of Christ Ministry - ECPv6.15.20//NONSGML v1.0//EN
CALSCALE:GREGORIAN
METHOD:PUBLISH
X-WR-CALNAME:Reflection of Christ Ministry
X-ORIGINAL-URL:https://reflectionministry.org
X-WR-CALDESC:Events for Reflection of Christ Ministry
REFRESH-INTERVAL;VALUE=DURATION:PT1H
X-Robots-Tag:noindex
X-PUBLISHED-TTL:PT1H
BEGIN:VTIMEZONE
TZID:America/Chicago
BEGIN:DAYLIGHT
TZOFFSETFROM:-0600
TZOFFSETTO:-0500
TZNAME:CDT
DTSTART:20240310T080000
END:DAYLIGHT
BEGIN:STANDARD
TZOFFSETFROM:-0500
TZOFFSETTO:-0600
TZNAME:CST
DTSTART:20241103T070000
END:STANDARD
BEGIN:DAYLIGHT
TZOFFSETFROM:-0600
TZOFFSETTO:-0500
TZNAME:CDT
DTSTART:20250309T080000
END:DAYLIGHT
BEGIN:STANDARD
TZOFFSETFROM:-0500
TZOFFSETTO:-0600
TZNAME:CST
DTSTART:20251102T070000
END:STANDARD
BEGIN:DAYLIGHT
TZOFFSETFROM:-0600
TZOFFSETTO:-0500
TZNAME:CDT
DTSTART:20260308T080000
END:DAYLIGHT
BEGIN:STANDARD
TZOFFSETFROM:-0500
TZOFFSETTO:-0600
TZNAME:CST
DTSTART:20261101T070000
END:STANDARD
END:VTIMEZONE
BEGIN:VEVENT
DTSTART;TZID=America/Chicago:20250603T080000
DTEND;TZID=America/Chicago:20250603T170000
DTSTAMP:20260425T222635
CREATED:20250610T194537Z
LAST-MODIFIED:20250610T194537Z
UID:3502-1748937600-1748970000@reflectionministry.org
SUMMARY:Triumphant Tuesday Prayer
DESCRIPTION:Join us for Triumphant Tuesdays for prayer & fasting as we press into the Lord and decree His heart! We will have 2 prayer sessions online each week at 8am and 4pm central time\, each session for 1 hr. You’re welcome to join for some or all of these sessions. \nI want to invite those joining\, who feel led\, to fast with me each Tuesday from 8am-5pm\, as well. It is not mandatory to join in prayer each week\, but this is an invitation to go deeper. This will give us a greater hunger for the LORD as we press in for a greater victory!! \n“Now thanks be to God who always leads us in triumph in Christ\, and through us diffuses the fragrance of His knowledge in every place.” \n2 Corinthians 2:14 \nEach week\, we will have a new prayer focus to expand the Kingdom of God! We will rotate around 4 primary areas: \nWeek 1: Family (Kingdom Unity & Next Generation) \nWeek 2: Church/Bride (Advancement) \nWeek 3: Nations (Watchman) \nWeek 4: Reflection of Christ Ministry Intercession \nWeek 5: Testimonies (Celebration) \nWe have had so many testimonies over the past few years. We have seen our children receive Christ as their Lord and Savior\, get baptized\, graduate from college\, get married\, find amazing job opportunities\, have financial blessings for their education and so much more! We have seen breakthroughs in marriages and financial increases with new job promotions! We have seen nations shift towards the heart of God! We have seen birthing and advancement of ministries. WOW\, GOD!!! Thank you\, Jesus for so many blessings!
URL:https://reflectionministry.org/event/triumphant-tuesday-prayer-15/
ATTACH;FMTTYPE=image/png:https://reflectionministry.org/wp-content/uploads/2025/01/HandsFamily.png
END:VEVENT
BEGIN:VEVENT
DTSTART;TZID=America/Chicago:20250607T120000
DTEND;TZID=America/Chicago:20250607T130000
DTSTAMP:20260425T222635
CREATED:20250206T003814Z
LAST-MODIFIED:20250206T024839Z
UID:2969-1749297600-1749301200@reflectionministry.org
SUMMARY:Entrepreneur Prophecy Appointment
DESCRIPTION:Feeling Stuck? Do you need break through? What does the Lord have to say to you today? \nClick HERE to save your spot for a prophetic word from the trained ROCM prophetic team. \nCome ready to receive an impactful word of the Lord to guide you into a transformative future! \nLimited slots available. \nIt is a 15-minute session where our trained prophetic team will provide a direct word from the LORD to encourage\, strengthen\, and edify you through the leading of Holy Spirit. \nBiblical References to Read: Joel 2:28-29/ Acts 2:17-18\, 1 Corinthians 12:10\, 1 Corinthians 14:1-3\, 1 Thessalonians 5:20-21\, Revelations 19:10 \nThese references reveal that prophecy is a way of communication from God\, often serving to express His divine plans\, offer guidance\, or provide comfort and encouragement. Whether through visions\, dreams\, or direct revelation\, the gift of prophecy is often seen as a means to strengthen faith and deliver the word of the Lord.
URL:https://reflectionministry.org/event/entrepreneur-prophecy-appointment/
LOCATION:Zoom Call
CATEGORIES:Front Page,ROCM
ATTACH;FMTTYPE=image/png:https://reflectionministry.org/wp-content/uploads/2025/02/Personal-Prophecy-Appointments-3.png
END:VEVENT
BEGIN:VEVENT
DTSTART;TZID=America/Chicago:20250610T080000
DTEND;TZID=America/Chicago:20250610T170000
DTSTAMP:20260425T222635
CREATED:20250206T005445Z
LAST-MODIFIED:20250206T005550Z
UID:3022-1749542400-1749574800@reflectionministry.org
SUMMARY:Triumphant Tuesday Prayer
DESCRIPTION:Join us for Triumphant Tuesdays for prayer & fasting as we press into the Lord and decree His heart! We will have 2 prayer sessions online each week at 8am and 4pm central time\, each session for 1 hr. You’re welcome to join for some or all of these sessions. \nI want to invite those joining\, who feel led\, to fast with me each Tuesday from 8am-5pm\, as well. It is not mandatory to join in prayer each week\, but this is an invitation to go deeper. This will give us a greater hunger for the LORD as we press in for a greater victory!! \n“Now thanks be to God who always leads us in triumph in Christ\, and through us diffuses the fragrance of His knowledge in every place.” \n2 Corinthians 2:14 \nEach week\, we will have a new prayer focus to expand the Kingdom of God! We will rotate around 4 primary areas: \nWeek 1: Family (Kingdom Unity & Next Generation) \nWeek 2: Church/Bride (Advancement) \nWeek 3: Nations (Watchman) \nWeek 4: Reflection of Christ Ministry Intercession \nWeek 5: Testimonies (Celebration) \nWe have had so many testimonies over the past few years. We have seen our children receive Christ as their Lord and Savior\, get baptized\, graduate from college\, get married\, find amazing job opportunities\, have financial blessings for their education and so much more! We have seen breakthroughs in marriages and financial increases with new job promotions! We have seen nations shift towards the heart of God! We have seen birthing and advancement of ministries. WOW\, GOD!!! Thank you\, Jesus for so many blessings!
URL:https://reflectionministry.org/event/triumphant-tuesday-prayer-10/
LOCATION:Zoom Call
CATEGORIES:Front Page,ROCM
ATTACH;FMTTYPE=image/png:https://reflectionministry.org/wp-content/uploads/2025/01/HandsChurch.png
END:VEVENT
BEGIN:VEVENT
DTSTART;TZID=America/Chicago:20250614T100000
DTEND;TZID=America/Chicago:20250614T113000
DTSTAMP:20260425T222635
CREATED:20250610T203515Z
LAST-MODIFIED:20250610T203515Z
UID:3540-1749895200-1749900600@reflectionministry.org
SUMMARY:Prophetic and Discernment Training
DESCRIPTION:ROCM Prophetic and Discernment Training\, is an online group to learn and grow in the prophetic and deeper in our relationship with Christ Jesus.  We are currently meeting  on the 2nd and 4th Saturdays each month\, 10am -11:30am CDT. Each week we will have a short lesson and a prophetic activation exercise with breakout sessions. This is great way to meet new faces\, but most importantly gain confidence as we press in to hear the Lord for others. This is also a great group to invite others to join and grow with us as well. This is an intermediate to advanced group.
URL:https://reflectionministry.org/event/prophetic-and-discernment-training-5/
ATTACH;FMTTYPE=image/png:https://reflectionministry.org/wp-content/uploads/2025/01/ProphecyBible.png
END:VEVENT
BEGIN:VEVENT
DTSTART;TZID=America/Chicago:20250617T080000
DTEND;TZID=America/Chicago:20250617T170000
DTSTAMP:20260425T222635
CREATED:20250610T193955Z
LAST-MODIFIED:20250610T193955Z
UID:3496-1750147200-1750179600@reflectionministry.org
SUMMARY:Triumphant Tuesday Prayer
DESCRIPTION:Join us for Triumphant Tuesdays for prayer & fasting as we press into the Lord and decree His heart! We will have 2 prayer sessions online each week at 8am and 4pm central time\, each session for 1 hr. You’re welcome to join for some or all of these sessions. \nI want to invite those joining\, who feel led\, to fast with me each Tuesday from 8am-5pm\, as well. It is not mandatory to join in prayer each week\, but this is an invitation to go deeper. This will give us a greater hunger for the LORD as we press in for a greater victory!! \n“Now thanks be to God who always leads us in triumph in Christ\, and through us diffuses the fragrance of His knowledge in every place.” \n2 Corinthians 2:14 \nEach week\, we will have a new prayer focus to expand the Kingdom of God! We will rotate around 4 primary areas: \nWeek 1: Family (Kingdom Unity & Next Generation) \nWeek 2: Church/Bride (Advancement) \nWeek 3: Nations (Watchman) \nWeek 4: Reflection of Christ Ministry Intercession \nWeek 5: Testimonies (Celebration) \nWe have had so many testimonies over the past few years. We have seen our children receive Christ as their Lord and Savior\, get baptized\, graduate from college\, get married\, find amazing job opportunities\, have financial blessings for their education and so much more! We have seen breakthroughs in marriages and financial increases with new job promotions! We have seen nations shift towards the heart of God! We have seen birthing and advancement of ministries. WOW\, GOD!!! Thank you\, Jesus for so many blessings!
URL:https://reflectionministry.org/event/triumphant-tuesday-prayer-12/
ATTACH;FMTTYPE=image/png:https://reflectionministry.org/wp-content/uploads/2025/01/HandsNations.png
END:VEVENT
BEGIN:VEVENT
DTSTART;TZID=America/Chicago:20250624T080000
DTEND;TZID=America/Chicago:20250624T170000
DTSTAMP:20260425T222635
CREATED:20250610T194916Z
LAST-MODIFIED:20250610T194916Z
UID:3508-1750752000-1750784400@reflectionministry.org
SUMMARY:Triumphant Tuesday Prayer
DESCRIPTION:Join us for Triumphant Tuesdays for prayer & fasting as we press into the Lord and decree His heart! We will have 2 prayer sessions online each week at 8am and 4pm central time\, each session for 1 hr. You’re welcome to join for some or all of these sessions. \nI want to invite those joining\, who feel led\, to fast with me each Tuesday from 8am-5pm\, as well. It is not mandatory to join in prayer each week\, but this is an invitation to go deeper. This will give us a greater hunger for the LORD as we press in for a greater victory!! \n“Now thanks be to God who always leads us in triumph in Christ\, and through us diffuses the fragrance of His knowledge in every place.” \n2 Corinthians 2:14 \nEach week\, we will have a new prayer focus to expand the Kingdom of God! We will rotate around 4 primary areas: \nWeek 1: Family (Kingdom Unity & Next Generation) \nWeek 2: Church/Bride (Advancement) \nWeek 3: Nations (Watchman) \nWeek 4: Reflection of Christ Ministry Intercession \nWeek 5: Testimonies (Celebration) \nWe have had so many testimonies over the past few years. We have seen our children receive Christ as their Lord and Savior\, get baptized\, graduate from college\, get married\, find amazing job opportunities\, have financial blessings for their education and so much more! We have seen breakthroughs in marriages and financial increases with new job promotions! We have seen nations shift towards the heart of God! We have seen birthing and advancement of ministries. WOW\, GOD!!! Thank you\, Jesus for so many blessings!
URL:https://reflectionministry.org/event/triumphant-tuesday-prayer-18/
ATTACH;FMTTYPE=image/png:https://reflectionministry.org/wp-content/uploads/2025/01/HandsPrayer.png
END:VEVENT
BEGIN:VEVENT
DTSTART;TZID=America/Chicago:20250626T080000
DTEND;TZID=America/Chicago:20250630T170000
DTSTAMP:20260425T222635
CREATED:20250610T195658Z
LAST-MODIFIED:20250610T200548Z
UID:3514-1750924800-1751302800@reflectionministry.org
SUMMARY:ROCIM Freedom Retreat
DESCRIPTION:Freedom Retreat is filled with training with real-world activation focused around prophetic evangelism in various city settings. For more information inquire at info@reflectionministry.org.
URL:https://reflectionministry.org/event/freedom-retreat/
ATTACH;FMTTYPE=image/png:https://reflectionministry.org/wp-content/uploads/2025/06/Screen-Shot-2025-06-10-at-2.53.59-PM.png
END:VEVENT
BEGIN:VEVENT
DTSTART;TZID=America/Chicago:20250629T120000
DTEND;TZID=America/Chicago:20250629T170000
DTSTAMP:20260425T222635
CREATED:20250610T200421Z
LAST-MODIFIED:20250610T200524Z
UID:3518-1751198400-1751216400@reflectionministry.org
SUMMARY:Meet ROCM @The Lake
DESCRIPTION:Join us at the Boerne Lake pavilion for fun and fellowship. We would love to meet you\, connect\, and share how you can get equipped and training with Reflection of Christ International Ministries. Come see our international traveling team providing prophetic words of the Lord\, a dream interpretations\, or prayer & healing.
URL:https://reflectionministry.org/event/the-lake/
ATTACH;FMTTYPE=image/png:https://reflectionministry.org/wp-content/uploads/2025/06/Screen-Shot-2025-06-10-at-2.53.59-PM.png
END:VEVENT
END:VCALENDAR