BEGIN:VCALENDAR
VERSION:2.0
PRODID:-//Reflection of Christ Ministry - ECPv6.15.20//NONSGML v1.0//EN
CALSCALE:GREGORIAN
METHOD:PUBLISH
X-WR-CALNAME:Reflection of Christ Ministry
X-ORIGINAL-URL:https://reflectionministry.org
X-WR-CALDESC:Events for Reflection of Christ Ministry
REFRESH-INTERVAL;VALUE=DURATION:PT1H
X-Robots-Tag:noindex
X-PUBLISHED-TTL:PT1H
BEGIN:VTIMEZONE
TZID:America/Chicago
BEGIN:DAYLIGHT
TZOFFSETFROM:-0600
TZOFFSETTO:-0500
TZNAME:CDT
DTSTART:20240310T080000
END:DAYLIGHT
BEGIN:STANDARD
TZOFFSETFROM:-0500
TZOFFSETTO:-0600
TZNAME:CST
DTSTART:20241103T070000
END:STANDARD
BEGIN:DAYLIGHT
TZOFFSETFROM:-0600
TZOFFSETTO:-0500
TZNAME:CDT
DTSTART:20250309T080000
END:DAYLIGHT
BEGIN:STANDARD
TZOFFSETFROM:-0500
TZOFFSETTO:-0600
TZNAME:CST
DTSTART:20251102T070000
END:STANDARD
BEGIN:DAYLIGHT
TZOFFSETFROM:-0600
TZOFFSETTO:-0500
TZNAME:CDT
DTSTART:20260308T080000
END:DAYLIGHT
BEGIN:STANDARD
TZOFFSETFROM:-0500
TZOFFSETTO:-0600
TZNAME:CST
DTSTART:20261101T070000
END:STANDARD
END:VTIMEZONE
BEGIN:VEVENT
DTSTART;TZID=America/Chicago:20250902T080000
DTEND;TZID=America/Chicago:20250902T170000
DTSTAMP:20260425T181743
CREATED:20250610T205548Z
LAST-MODIFIED:20250610T205548Z
UID:3552-1756800000-1756832400@reflectionministry.org
SUMMARY:Triumphant Tuesday Prayer
DESCRIPTION:Join us for Triumphant Tuesdays for prayer & fasting as we press into the Lord and decree His heart! We will have 2 prayer sessions online each week at 8am and 4pm central time\, each session for 1 hr. You’re welcome to join for some or all of these sessions. \nI want to invite those joining\, who feel led\, to fast with me each Tuesday from 8am-5pm\, as well. It is not mandatory to join in prayer each week\, but this is an invitation to go deeper. This will give us a greater hunger for the LORD as we press in for a greater victory!! \n“Now thanks be to God who always leads us in triumph in Christ\, and through us diffuses the fragrance of His knowledge in every place.” \n2 Corinthians 2:14 \nEach week\, we will have a new prayer focus to expand the Kingdom of God! We will rotate around 4 primary areas: \nWeek 1: Family (Kingdom Unity & Next Generation) \nWeek 2: Church/Bride (Advancement) \nWeek 3: Nations (Watchman) \nWeek 4: Reflection of Christ Ministry Intercession \nWeek 5: Testimonies (Celebration) \nWe have had so many testimonies over the past few years. We have seen our children receive Christ as their Lord and Savior\, get baptized\, graduate from college\, get married\, find amazing job opportunities\, have financial blessings for their education and so much more! We have seen breakthroughs in marriages and financial increases with new job promotions! We have seen nations shift towards the heart of God! We have seen birthing and advancement of ministries. WOW\, GOD!!! Thank you\, Jesus for so many blessings!
URL:https://reflectionministry.org/event/triumphant-tuesday-prayer-21/
ATTACH;FMTTYPE=image/png:https://reflectionministry.org/wp-content/uploads/2025/01/HandsFamily.png
END:VEVENT
BEGIN:VEVENT
DTSTART;TZID=America/Chicago:20250909T080000
DTEND;TZID=America/Chicago:20250909T170000
DTSTAMP:20260425T181743
CREATED:20250611T203240Z
LAST-MODIFIED:20250611T203240Z
UID:3575-1757404800-1757437200@reflectionministry.org
SUMMARY:Triumphant Tuesday Prayer
DESCRIPTION:Join us for Triumphant Tuesdays for prayer & fasting as we press into the Lord and decree His heart! We will have 2 prayer sessions online each week at 8am and 4pm central time\, each session for 1 hr. You’re welcome to join for some or all of these sessions. \nI want to invite those joining\, who feel led\, to fast with me each Tuesday from 8am-5pm\, as well. It is not mandatory to join in prayer each week\, but this is an invitation to go deeper. This will give us a greater hunger for the LORD as we press in for a greater victory!! \n“Now thanks be to God who always leads us in triumph in Christ\, and through us diffuses the fragrance of His knowledge in every place.” \n2 Corinthians 2:14 \nEach week\, we will have a new prayer focus to expand the Kingdom of God! We will rotate around 4 primary areas: \nWeek 1: Family (Kingdom Unity & Next Generation) \nWeek 2: Church/Bride (Advancement) \nWeek 3: Nations (Watchman) \nWeek 4: Reflection of Christ Ministry Intercession \nWeek 5: Testimonies (Celebration)
URL:https://reflectionministry.org/event/triumphant-tuesday-prayer-27/
ATTACH;FMTTYPE=image/png:https://reflectionministry.org/wp-content/uploads/2025/01/HandsChurch.png
END:VEVENT
BEGIN:VEVENT
DTSTART;TZID=America/Chicago:20250913T100000
DTEND;TZID=America/Chicago:20250913T113000
DTSTAMP:20260425T181743
CREATED:20250610T203112Z
LAST-MODIFIED:20250610T203112Z
UID:3536-1757757600-1757763000@reflectionministry.org
SUMMARY:Prophetic and Discernment Training
DESCRIPTION:ROCM Prophetic and Discernment Training\, is an online group to learn and grow in the prophetic and deeper in our relationship with Christ Jesus.  Men and women are currently meeting in two separate groups at this time\, both on the 2nd and 4th Saturdays each month\, 10am -11:30am CDT. Each week we will have a short lesson and a prophetic activation exercise with breakout sessions. This is great way to meet new faces\, but most importantly gain confidence as we press in to hear the Lord for others. This is also a great group to invite others to join and grow with us as well. This is an intermediate to advanced group.
URL:https://reflectionministry.org/event/prophetic-and-discernment-training-3/
ATTACH;FMTTYPE=image/png:https://reflectionministry.org/wp-content/uploads/2025/01/ProphecyBible.png
END:VEVENT
BEGIN:VEVENT
DTSTART;TZID=America/Chicago:20250916T080000
DTEND;TZID=America/Chicago:20250916T170000
DTSTAMP:20260425T181743
CREATED:20250611T203321Z
LAST-MODIFIED:20250611T203321Z
UID:3577-1758009600-1758042000@reflectionministry.org
SUMMARY:Triumphant Tuesday Prayer
DESCRIPTION:Join us for Triumphant Tuesdays for prayer & fasting as we press into the Lord and decree His heart! We will have 2 prayer sessions online each week at 8am and 4pm central time\, each session for 1 hr. You’re welcome to join for some or all of these sessions. \nI want to invite those joining\, who feel led\, to fast with me each Tuesday from 8am-5pm\, as well. It is not mandatory to join in prayer each week\, but this is an invitation to go deeper. This will give us a greater hunger for the LORD as we press in for a greater victory!! \n“Now thanks be to God who always leads us in triumph in Christ\, and through us diffuses the fragrance of His knowledge in every place.” \n2 Corinthians 2:14 \nEach week\, we will have a new prayer focus to expand the Kingdom of God! We will rotate around 4 primary areas: \nWeek 1: Family (Kingdom Unity & Next Generation) \nWeek 2: Church/Bride (Advancement) \nWeek 3: Nations (Watchman) \nWeek 4: Reflection of Christ Ministry Intercession \nWeek 5: Testimonies (Celebration)
URL:https://reflectionministry.org/event/triumphant-tuesday-prayer-28/
ATTACH;FMTTYPE=image/png:https://reflectionministry.org/wp-content/uploads/2025/01/HandsNations.png
END:VEVENT
BEGIN:VEVENT
DTSTART;TZID=America/Chicago:20250923T080000
DTEND;TZID=America/Chicago:20250923T170000
DTSTAMP:20260425T181743
CREATED:20250611T203418Z
LAST-MODIFIED:20250611T203418Z
UID:3579-1758614400-1758646800@reflectionministry.org
SUMMARY:Triumphant Tuesday Prayer
DESCRIPTION:Join us for Triumphant Tuesdays for prayer & fasting as we press into the Lord and decree His heart! We will have 2 prayer sessions online each week at 8am and 4pm central time\, each session for 1 hr. You’re welcome to join for some or all of these sessions. \nI want to invite those joining\, who feel led\, to fast with me each Tuesday from 8am-5pm\, as well. It is not mandatory to join in prayer each week\, but this is an invitation to go deeper. This will give us a greater hunger for the LORD as we press in for a greater victory!! \n“Now thanks be to God who always leads us in triumph in Christ\, and through us diffuses the fragrance of His knowledge in every place.” \n2 Corinthians 2:14 \nEach week\, we will have a new prayer focus to expand the Kingdom of God! We will rotate around 4 primary areas: \nWeek 1: Family (Kingdom Unity & Next Generation) \nWeek 2: Church/Bride (Advancement) \nWeek 3: Nations (Watchman) \nWeek 4: Reflection of Christ Ministry Intercession \nWeek 5: Testimonies (Celebration)
URL:https://reflectionministry.org/event/triumphant-tuesday-prayer-29/
ATTACH;FMTTYPE=image/png:https://reflectionministry.org/wp-content/uploads/2025/01/HandsPrayer.png
END:VEVENT
BEGIN:VEVENT
DTSTART;TZID=America/Chicago:20250927T093000
DTEND;TZID=America/Chicago:20250927T110000
DTSTAMP:20260425T181743
CREATED:20250610T203217Z
LAST-MODIFIED:20250923T201906Z
UID:3538-1758965400-1758970800@reflectionministry.org
SUMMARY:Prophetic and Discernment Training
DESCRIPTION:ROCM Prophetic and Discernment Training\, is an online group to learn and grow in the prophetic and deeper in our relationship with Christ Jesus.  Men and women are currently meeting in two separate groups at this time\, both on the 2nd and 4th Saturdays each month\, 10am -11:30am CDT. Each week we will have a short lesson and a prophetic activation exercise with breakout sessions. This is great way to meet new faces\, but most importantly gain confidence as we press in to hear the Lord for others. This is also a great group to invite others to join and grow with us as well. This is an intermediate to advanced group.
URL:https://reflectionministry.org/event/prophetic-and-discernment-training-4/
ATTACH;FMTTYPE=image/png:https://reflectionministry.org/wp-content/uploads/2025/01/ProphecyBible.png
END:VEVENT
BEGIN:VEVENT
DTSTART;TZID=America/Chicago:20250930T080000
DTEND;TZID=America/Chicago:20250930T170000
DTSTAMP:20260425T181743
CREATED:20250611T203459Z
LAST-MODIFIED:20250611T203459Z
UID:3581-1759219200-1759251600@reflectionministry.org
SUMMARY:Triumphant Tuesday Prayer
DESCRIPTION:Join us for Triumphant Tuesdays for prayer & fasting as we press into the Lord and decree His heart! We will have 2 prayer sessions online each week at 8am and 4pm central time\, each session for 1 hr. You’re welcome to join for some or all of these sessions. \nI want to invite those joining\, who feel led\, to fast with me each Tuesday from 8am-5pm\, as well. It is not mandatory to join in prayer each week\, but this is an invitation to go deeper. This will give us a greater hunger for the LORD as we press in for a greater victory!! \n“Now thanks be to God who always leads us in triumph in Christ\, and through us diffuses the fragrance of His knowledge in every place.” \n2 Corinthians 2:14 \nEach week\, we will have a new prayer focus to expand the Kingdom of God! We will rotate around 4 primary areas: \nWeek 1: Family (Kingdom Unity & Next Generation) \nWeek 2: Church/Bride (Advancement) \nWeek 3: Nations (Watchman) \nWeek 4: Reflection of Christ Ministry Intercession \nWeek 5: Testimonies (Celebration)
URL:https://reflectionministry.org/event/triumphant-tuesday-prayer-30/
ATTACH;FMTTYPE=image/jpeg:https://reflectionministry.org/wp-content/uploads/2023/06/heart-700141_benkerckx.jpg
END:VEVENT
END:VCALENDAR