BEGIN:VCALENDAR
VERSION:2.0
PRODID:-//Reflection of Christ Ministry - ECPv6.15.20//NONSGML v1.0//EN
CALSCALE:GREGORIAN
METHOD:PUBLISH
X-WR-CALNAME:Reflection of Christ Ministry
X-ORIGINAL-URL:https://reflectionministry.org
X-WR-CALDESC:Events for Reflection of Christ Ministry
REFRESH-INTERVAL;VALUE=DURATION:PT1H
X-Robots-Tag:noindex
X-PUBLISHED-TTL:PT1H
BEGIN:VTIMEZONE
TZID:America/Chicago
BEGIN:DAYLIGHT
TZOFFSETFROM:-0600
TZOFFSETTO:-0500
TZNAME:CDT
DTSTART:20240310T080000
END:DAYLIGHT
BEGIN:STANDARD
TZOFFSETFROM:-0500
TZOFFSETTO:-0600
TZNAME:CST
DTSTART:20241103T070000
END:STANDARD
BEGIN:DAYLIGHT
TZOFFSETFROM:-0600
TZOFFSETTO:-0500
TZNAME:CDT
DTSTART:20250309T080000
END:DAYLIGHT
BEGIN:STANDARD
TZOFFSETFROM:-0500
TZOFFSETTO:-0600
TZNAME:CST
DTSTART:20251102T070000
END:STANDARD
BEGIN:DAYLIGHT
TZOFFSETFROM:-0600
TZOFFSETTO:-0500
TZNAME:CDT
DTSTART:20260308T080000
END:DAYLIGHT
BEGIN:STANDARD
TZOFFSETFROM:-0500
TZOFFSETTO:-0600
TZNAME:CST
DTSTART:20261101T070000
END:STANDARD
END:VTIMEZONE
BEGIN:VEVENT
DTSTART;TZID=America/Chicago:20251007T080000
DTEND;TZID=America/Chicago:20251007T170000
DTSTAMP:20260425T165631
CREATED:20250610T205825Z
LAST-MODIFIED:20250610T205825Z
UID:3554-1759824000-1759856400@reflectionministry.org
SUMMARY:Triumphant Tuesday Prayer
DESCRIPTION:Join us for Triumphant Tuesdays for prayer & fasting as we press into the Lord and decree His heart! We will have 2 prayer sessions online each week at 8am and 4pm central time\, each session for 1 hr. You’re welcome to join for some or all of these sessions. \nI want to invite those joining\, who feel led\, to fast with me each Tuesday from 8am-5pm\, as well. It is not mandatory to join in prayer each week\, but this is an invitation to go deeper. This will give us a greater hunger for the LORD as we press in for a greater victory!! \n“Now thanks be to God who always leads us in triumph in Christ\, and through us diffuses the fragrance of His knowledge in every place.” \n2 Corinthians 2:14 \nEach week\, we will have a new prayer focus to expand the Kingdom of God! We will rotate around 4 primary areas: \nWeek 1: Family (Kingdom Unity & Next Generation) \nWeek 2: Church/Bride (Advancement) \nWeek 3: Nations (Watchman) \nWeek 4: Reflection of Christ Ministry Intercession \nWeek 5: Testimonies (Celebration) \nWe have had so many testimonies over the past few years. We have seen our children receive Christ as their Lord and Savior\, get baptized\, graduate from college\, get married\, find amazing job opportunities\, have financial blessings for their education and so much more! We have seen breakthroughs in marriages and financial increases with new job promotions! We have seen nations shift towards the heart of God! We have seen birthing and advancement of ministries. WOW\, GOD!!! Thank you\, Jesus for so many blessings!
URL:https://reflectionministry.org/event/triumphant-tuesday-prayer-22/
ATTACH;FMTTYPE=image/png:https://reflectionministry.org/wp-content/uploads/2025/01/HandsFamily.png
END:VEVENT
BEGIN:VEVENT
DTSTART;TZID=America/Chicago:20251011T100000
DTEND;TZID=America/Chicago:20251011T113000
DTSTAMP:20260425T165631
CREATED:20250610T203716Z
LAST-MODIFIED:20250610T203716Z
UID:3542-1760176800-1760182200@reflectionministry.org
SUMMARY:Prophetic and Discernment Training
DESCRIPTION:ROCM Prophetic and Discernment Training\, is an online group to learn and grow in the prophetic and deeper in our relationship with Christ Jesus.  Men and women are currently meeting in two separate groups at this time\, both on the 2nd and 4th Saturdays each month\, 10am -11:30am CDT. Each week we will have a short lesson and a prophetic activation exercise with breakout sessions. This is great way to meet new faces\, but most importantly gain confidence as we press in to hear the Lord for others. This is also a great group to invite others to join and grow with us as well. This is an intermediate to advanced group.
URL:https://reflectionministry.org/event/prophetic-and-discernment-training-6/
ATTACH;FMTTYPE=image/png:https://reflectionministry.org/wp-content/uploads/2025/01/ProphecyBible.png
END:VEVENT
BEGIN:VEVENT
DTSTART;TZID=America/Chicago:20251014T080000
DTEND;TZID=America/Chicago:20251014T170000
DTSTAMP:20260425T165631
CREATED:20250611T203618Z
LAST-MODIFIED:20250611T203618Z
UID:3583-1760428800-1760461200@reflectionministry.org
SUMMARY:Triumphant Tuesday Prayer
DESCRIPTION:Join us for Triumphant Tuesdays for prayer & fasting as we press into the Lord and decree His heart! We will have 2 prayer sessions online each week at 8am and 4pm central time\, each session for 1 hr. You’re welcome to join for some or all of these sessions. \nI want to invite those joining\, who feel led\, to fast with me each Tuesday from 8am-5pm\, as well. It is not mandatory to join in prayer each week\, but this is an invitation to go deeper. This will give us a greater hunger for the LORD as we press in for a greater victory!! \n“Now thanks be to God who always leads us in triumph in Christ\, and through us diffuses the fragrance of His knowledge in every place.” \n2 Corinthians 2:14 \nEach week\, we will have a new prayer focus to expand the Kingdom of God! We will rotate around 4 primary areas: \nWeek 1: Family (Kingdom Unity & Next Generation) \nWeek 2: Church/Bride (Advancement) \nWeek 3: Nations (Watchman) \nWeek 4: Reflection of Christ Ministry Intercession \nWeek 5: Testimonies (Celebration)
URL:https://reflectionministry.org/event/triumphant-tuesday-prayer-31/
ATTACH;FMTTYPE=image/png:https://reflectionministry.org/wp-content/uploads/2025/01/HandsChurch.png
END:VEVENT
BEGIN:VEVENT
DTSTART;TZID=America/Chicago:20251018T120000
DTEND;TZID=America/Chicago:20251018T130000
DTSTAMP:20260425T165631
CREATED:20250206T030205Z
LAST-MODIFIED:20250206T030205Z
UID:3032-1760788800-1760792400@reflectionministry.org
SUMMARY:Appointed Prophecy Appointments
DESCRIPTION:Feeling Stuck? Do you need break through? What does the Lord have to say to you today? \nClick HERE to save your spot for a prophetic word from the trained ROCM prophetic team. \nCome ready to receive an impactful word of the Lord to guide you into a transformative future! \nLimited slots available. \nIt is a 15-minute session where our trained prophetic team will provide a direct word from the LORD to encourage\, strengthen\, and edify you through the leading of Holy Spirit. \nBiblical References to Read: Joel 2:28-29/ Acts 2:17-18\, 1 Corinthians 12:10\, 1 Corinthians 14:1-3\, 1 Thessalonians 5:20-21\, Revelations 19:10 \nThese references reveal that prophecy is a way of communication from God\, often serving to express His divine plans\, offer guidance\, or provide comfort and encouragement. Whether through visions\, dreams\, or direct revelation\, the gift of prophecy is often seen as a means to strengthen faith and deliver the word of the Lord.
URL:https://reflectionministry.org/event/appointed-prophecy-appointments/
LOCATION:Zoom Call
CATEGORIES:Front Page,ROCM
ATTACH;FMTTYPE=image/png:https://reflectionministry.org/wp-content/uploads/2025/02/Personal-Prophecy-Appointments-7.png
END:VEVENT
BEGIN:VEVENT
DTSTART;TZID=America/Chicago:20251019T150000
DTEND;TZID=America/Chicago:20251019T160000
DTSTAMP:20260425T165631
CREATED:20250923T202613Z
LAST-MODIFIED:20250923T202613Z
UID:3522-1760886000-1760889600@reflectionministry.org
SUMMARY:Chosen Generation
DESCRIPTION:We are excited to announce our new YOUNG ADULTS group. Come grow in the gifts of Holy Spirit. Get trained and equip to hear the voice of God and walk in all things prophetic with pure biblical foundation! We have heard YOU say you desire: a place to ask the hard questions\, meet and connect with others in your age group\, and go deep in the word with practical life application. We believe you are a CHOSEN generation that carries a heart of revival to bring the voice of the Lord to the nations. \nWe will meet via Zoom on the 3rd Sunday of the month @3pm! Inquire and sign up at info@reflectionministry.org.
URL:https://reflectionministry.org/event/chosen-generation-2/
CATEGORIES:Chosen Generation
ATTACH;FMTTYPE=image/png:https://reflectionministry.org/wp-content/uploads/2025/06/Screen-Shot-2025-09-23-at-3.24.28-PM.png
END:VEVENT
BEGIN:VEVENT
DTSTART;TZID=America/Chicago:20251021T080000
DTEND;TZID=America/Chicago:20251021T170000
DTSTAMP:20260425T165631
CREATED:20250611T203700Z
LAST-MODIFIED:20250611T203700Z
UID:3585-1761033600-1761066000@reflectionministry.org
SUMMARY:Triumphant Tuesday Prayer
DESCRIPTION:Join us for Triumphant Tuesdays for prayer & fasting as we press into the Lord and decree His heart! We will have 2 prayer sessions online each week at 8am and 4pm central time\, each session for 1 hr. You’re welcome to join for some or all of these sessions. \nI want to invite those joining\, who feel led\, to fast with me each Tuesday from 8am-5pm\, as well. It is not mandatory to join in prayer each week\, but this is an invitation to go deeper. This will give us a greater hunger for the LORD as we press in for a greater victory!! \n“Now thanks be to God who always leads us in triumph in Christ\, and through us diffuses the fragrance of His knowledge in every place.” \n2 Corinthians 2:14 \nEach week\, we will have a new prayer focus to expand the Kingdom of God! We will rotate around 4 primary areas: \nWeek 1: Family (Kingdom Unity & Next Generation) \nWeek 2: Church/Bride (Advancement) \nWeek 3: Nations (Watchman) \nWeek 4: Reflection of Christ Ministry Intercession \nWeek 5: Testimonies (Celebration)
URL:https://reflectionministry.org/event/triumphant-tuesday-prayer-32/
ATTACH;FMTTYPE=image/png:https://reflectionministry.org/wp-content/uploads/2025/01/HandsNations.png
END:VEVENT
BEGIN:VEVENT
DTSTART;TZID=America/Chicago:20251024T080000
DTEND;TZID=America/Chicago:20251027T170000
DTSTAMP:20260425T165631
CREATED:20250611T204139Z
LAST-MODIFIED:20250611T204139Z
UID:3589-1761292800-1761584400@reflectionministry.org
SUMMARY:ROCM Retreat
DESCRIPTION:Broadcasting and Prophetic Writing Retreat. Private invite only.
URL:https://reflectionministry.org/event/rocm-retreat/
ATTACH;FMTTYPE=image/png:https://reflectionministry.org/wp-content/uploads/2025/02/Screen-Shot-2025-02-07-at-8.01.36-PM-1.png
END:VEVENT
BEGIN:VEVENT
DTSTART;TZID=America/Chicago:20251025T100000
DTEND;TZID=America/Chicago:20251025T113000
DTSTAMP:20260425T165631
CREATED:20250610T203830Z
LAST-MODIFIED:20250610T203830Z
UID:3544-1761386400-1761391800@reflectionministry.org
SUMMARY:Prophetic and Discernment Training
DESCRIPTION:ROCM Prophetic and Discernment Training\, is an online group to learn and grow in the prophetic and deeper in our relationship with Christ Jesus.  Men and women are currently meeting in two separate groups at this time\, both on the 2nd and 4th Saturdays each month\, 10am -11:30am CDT. Each week we will have a short lesson and a prophetic activation exercise with breakout sessions. This is great way to meet new faces\, but most importantly gain confidence as we press in to hear the Lord for others. This is also a great group to invite others to join and grow with us as well. This is an intermediate to advanced group.
URL:https://reflectionministry.org/event/prophetic-and-discernment-training-7/
ATTACH;FMTTYPE=image/png:https://reflectionministry.org/wp-content/uploads/2025/01/ProphecyBible.png
END:VEVENT
BEGIN:VEVENT
DTSTART;TZID=America/Chicago:20251028T080000
DTEND;TZID=America/Chicago:20251028T170000
DTSTAMP:20260425T165631
CREATED:20250611T203741Z
LAST-MODIFIED:20250611T203741Z
UID:3587-1761638400-1761670800@reflectionministry.org
SUMMARY:Triumphant Tuesday Prayer
DESCRIPTION:Join us for Triumphant Tuesdays for prayer & fasting as we press into the Lord and decree His heart! We will have 2 prayer sessions online each week at 8am and 4pm central time\, each session for 1 hr. You’re welcome to join for some or all of these sessions. \nI want to invite those joining\, who feel led\, to fast with me each Tuesday from 8am-5pm\, as well. It is not mandatory to join in prayer each week\, but this is an invitation to go deeper. This will give us a greater hunger for the LORD as we press in for a greater victory!! \n“Now thanks be to God who always leads us in triumph in Christ\, and through us diffuses the fragrance of His knowledge in every place.” \n2 Corinthians 2:14 \nEach week\, we will have a new prayer focus to expand the Kingdom of God! We will rotate around 4 primary areas: \nWeek 1: Family (Kingdom Unity & Next Generation) \nWeek 2: Church/Bride (Advancement) \nWeek 3: Nations (Watchman) \nWeek 4: Reflection of Christ Ministry Intercession \nWeek 5: Testimonies (Celebration)
URL:https://reflectionministry.org/event/triumphant-tuesday-prayer-33/
ATTACH;FMTTYPE=image/png:https://reflectionministry.org/wp-content/uploads/2025/01/HandsPrayer.png
END:VEVENT
END:VCALENDAR