BEGIN:VCALENDAR
VERSION:2.0
PRODID:-//Reflection of Christ Ministry - ECPv6.15.20//NONSGML v1.0//EN
CALSCALE:GREGORIAN
METHOD:PUBLISH
X-ORIGINAL-URL:https://reflectionministry.org
X-WR-CALDESC:Events for Reflection of Christ Ministry
REFRESH-INTERVAL;VALUE=DURATION:PT1H
X-Robots-Tag:noindex
X-PUBLISHED-TTL:PT1H
BEGIN:VTIMEZONE
TZID:America/Chicago
BEGIN:DAYLIGHT
TZOFFSETFROM:-0600
TZOFFSETTO:-0500
TZNAME:CDT
DTSTART:20250309T080000
END:DAYLIGHT
BEGIN:STANDARD
TZOFFSETFROM:-0500
TZOFFSETTO:-0600
TZNAME:CST
DTSTART:20251102T070000
END:STANDARD
BEGIN:DAYLIGHT
TZOFFSETFROM:-0600
TZOFFSETTO:-0500
TZNAME:CDT
DTSTART:20260308T080000
END:DAYLIGHT
BEGIN:STANDARD
TZOFFSETFROM:-0500
TZOFFSETTO:-0600
TZNAME:CST
DTSTART:20261101T070000
END:STANDARD
BEGIN:DAYLIGHT
TZOFFSETFROM:-0600
TZOFFSETTO:-0500
TZNAME:CDT
DTSTART:20270314T080000
END:DAYLIGHT
BEGIN:STANDARD
TZOFFSETFROM:-0500
TZOFFSETTO:-0600
TZNAME:CST
DTSTART:20271107T070000
END:STANDARD
END:VTIMEZONE
BEGIN:VEVENT
DTSTART;TZID=America/Chicago:20260203T080000
DTEND;TZID=America/Chicago:20260203T130000
DTSTAMP:20260425T104359
CREATED:20260114T025147Z
LAST-MODIFIED:20260114T025147Z
UID:3702-1770105600-1770123600@reflectionministry.org
SUMMARY:Triumphant Tuesday Prayer
DESCRIPTION:Join us for Triumphant Tuesdays for prayer & fasting as we press into the Lord and decree His heart! We will have 2 prayer sessions online each week at 8am and 12pm central time\, each session for 1 hr. You’re welcome to join for some or all of these sessions. \nI want to invite those joining\, who feel led\, to fast with me each Tuesday from 8am-5pm\, as well. It is not mandatory to join in prayer each week\, but this is an invitation to go deeper. This will give us a greater hunger for the LORD as we press in for a greater victory!! \n“Now thanks be to God who always leads us in triumph in Christ\, and through us diffuses the fragrance of His knowledge in every place.” \n2 Corinthians 2:14 \nEach week\, we will have a new prayer focus to expand the Kingdom of God! We will rotate around 4 primary areas: \nWeek 1: Family (Kingdom Unity & Next Generation) \nWeek 2: Church/Bride (Advancement) \nWeek 3: Nations (Watchman) \nWeek 4: Reflection of Christ Ministry Intercession \nWeek 5: Testimonies (Celebration)
URL:https://reflectionministry.org/event/triumphant-tuesday-prayer-39/
ATTACH;FMTTYPE=image/png:https://reflectionministry.org/wp-content/uploads/2025/01/HandsFamily.png
END:VEVENT
BEGIN:VEVENT
DTSTART;TZID=America/Chicago:20260210T080000
DTEND;TZID=America/Chicago:20260210T170000
DTSTAMP:20260425T104359
CREATED:20260114T025514Z
LAST-MODIFIED:20260114T025514Z
UID:3706-1770710400-1770742800@reflectionministry.org
SUMMARY:Triumphant Tuesday Prayer
DESCRIPTION:Join us for Triumphant Tuesdays for prayer & fasting as we press into the Lord and decree His heart! We will have 2 prayer sessions online each week at 8am and 12pm central time\, each session for 1 hr. You’re welcome to join for some or all of these sessions. \nI want to invite those joining\, who feel led\, to fast with me each Tuesday from 8am-5pm\, as well. It is not mandatory to join in prayer each week\, but this is an invitation to go deeper. This will give us a greater hunger for the LORD as we press in for a greater victory!! \n“Now thanks be to God who always leads us in triumph in Christ\, and through us diffuses the fragrance of His knowledge in every place.” \n2 Corinthians 2:14 \nEach week\, we will have a new prayer focus to expand the Kingdom of God! We will rotate around 4 primary areas: \nWeek 1: Family (Kingdom Unity & Next Generation) \nWeek 2: Church/Bride (Advancement) \nWeek 3: Nations (Watchman) \nWeek 4: Reflection of Christ Ministry Intercession \nWeek 5: Testimonies (Celebration)
URL:https://reflectionministry.org/event/triumphant-tuesday-prayer-41/
ATTACH;FMTTYPE=image/png:https://reflectionministry.org/wp-content/uploads/2025/01/HandsChurch.png
END:VEVENT
BEGIN:VEVENT
DTSTART;TZID=America/Chicago:20260214T093000
DTEND;TZID=America/Chicago:20260214T110000
DTSTAMP:20260425T104359
CREATED:20260114T013251Z
LAST-MODIFIED:20260114T013251Z
UID:3646-1771061400-1771066800@reflectionministry.org
SUMMARY:Prophetic Training
DESCRIPTION:ROCIM has two online prophetic training groups: Prophetic and Discernment Training and Prophetic Discipleship Training\,  to learn and grow in the prophetic and deeper in our relationship with Christ Jesus. Men and women are currently meeting in two separate groups at this time\, both on the 2nd and 4th Saturdays each month\, 9am -11:00am CDT. Each week we will have a short lesson and a prophetic activation exercise with breakout sessions. This is great way to meet new faces\, but most importantly gain confidence as we press in to hear the Lord for others. This is also a great group to invite others to join and grow with us as well. This is an intermediate to advanced group.
URL:https://reflectionministry.org/event/prophetic-training-2/
ATTACH;FMTTYPE=image/png:https://reflectionministry.org/wp-content/uploads/2025/01/ProphecyBible.png
END:VEVENT
BEGIN:VEVENT
DTSTART;TZID=America/Chicago:20260228T093000
DTEND;TZID=America/Chicago:20260228T110000
DTSTAMP:20260425T104359
CREATED:20260114T013513Z
LAST-MODIFIED:20260114T013513Z
UID:3649-1772271000-1772276400@reflectionministry.org
SUMMARY:Prophetic Training
DESCRIPTION:ROCIM has two online prophetic training groups: Prophetic and Discernment Training and Prophetic Discipleship Training\,  to learn and grow in the prophetic and deeper in our relationship with Christ Jesus. Men and women are currently meeting in two separate groups at this time\, both on the 2nd and 4th Saturdays each month\, 9am -11:00am CDT. Each week we will have a short lesson and a prophetic activation exercise with breakout sessions. This is great way to meet new faces\, but most importantly gain confidence as we press in to hear the Lord for others. This is also a great group to invite others to join and grow with us as well. This is an intermediate to advanced group.
URL:https://reflectionministry.org/event/prophetic-training-3/
LOCATION:Zoom Call
ATTACH;FMTTYPE=image/png:https://reflectionministry.org/wp-content/uploads/2025/01/ProphecyBible.png
END:VEVENT
END:VCALENDAR